BEGIN:VCALENDAR
VERSION:2.0
PRODID:icalendar-ruby
CALSCALE:GREGORIAN
METHOD:PUBLISH
BEGIN:VEVENT
DTSTAMP:20260419T174535Z
UID:5-396757@firstumcclover.org
DTSTART:20260510T143000Z
DTEND:20260510T153000Z
CLASS:PUBLIC
CREATED:20260419T131450
DESCRIPTION:Sunday Worship
LAST-MODIFIED:20260419T131450
LOCATION:
SUMMARY:Sunday Worship
URL;VALUE=URI:https://www.firstumcclover.org/events/sunday-worship/2026-05-
 10
END:VEVENT
END:VCALENDAR
