BEGIN:VCALENDAR
VERSION:2.0
PRODID:icalendar-ruby
CALSCALE:GREGORIAN
METHOD:PUBLISH
BEGIN:VEVENT
DTSTAMP:20260419T212055Z
UID:5-397020@firstumcclover.org
DTSTART:20260524T143000Z
DTEND:20260524T153000Z
CLASS:PUBLIC
CREATED:20260419T165709
DESCRIPTION:Sunday Worship
LAST-MODIFIED:20260419T165709
LOCATION:
SUMMARY:Sunday Worship
URL;VALUE=URI:https://www.firstumcclover.org/events/sunday-worship/2026-05-
 24
END:VEVENT
END:VCALENDAR
